Package: AlpsNMR Version: 4.9.0 Command: E:\biocbuild\bbs-3.21-bioc\R\bin\R.exe CMD INSTALL AlpsNMR StartedAt: 2025-01-31 15:37:17 -0500 (Fri, 31 Jan 2025) EndedAt: 2025-01-31 15:38:22 -0500 (Fri, 31 Jan 2025) EllapsedTime: 65.3 seconds RetCode: 0 Status: OK