Package: AllelicImbalance Version: 1.45.0 Command: E:\biocbuild\bbs-3.21-bioc\R\bin\R.exe CMD check --no-multiarch --install=check:AllelicImbalance.install-out.txt --library=E:\biocbuild\bbs-3.21-bioc\R\library --no-vignettes --timings AllelicImbalance_1.45.0.tar.gz StartedAt: 2025-01-31 22:17:24 -0500 (Fri, 31 Jan 2025) EndedAt: 2025-01-31 22:26:47 -0500 (Fri, 31 Jan 2025) EllapsedTime: 562.9 seconds RetCode: 0 Status: OK CheckDir: AllelicImbalance.Rcheck Warnings: 0