Package: ATACseqQC Version: 1.31.1 Command: /home/biocbuild/bbs-3.21-bioc/R/bin/R CMD build --keep-empty-dirs --no-resave-data ATACseqQC StartedAt: 2025-01-31 16:13:43 -0500 (Fri, 31 Jan 2025) EndedAt: 2025-01-31 16:17:09 -0500 (Fri, 31 Jan 2025) EllapsedTime: 206.2 seconds RetCode: 0 Status: OK PackageFile: ATACseqQC_1.31.1.tar.gz PackageFileSize: 14.52 MiB