Package: ASSIGN Version: 1.43.0 Command: /home/biocbuild/R/R/bin/R CMD INSTALL ASSIGN StartedAt: 2025-01-29 20:25:31 -0000 (Wed, 29 Jan 2025) EndedAt: 2025-01-29 20:25:35 -0000 (Wed, 29 Jan 2025) EllapsedTime: 4.3 seconds RetCode: 0 Status: OK