Package: ASSIGN Version: 1.43.0 Command: /home/biocbuild/R/R/bin/R CMD build --keep-empty-dirs --no-resave-data ASSIGN StartedAt: 2025-01-29 20:53:32 -0000 (Wed, 29 Jan 2025) EndedAt: 2025-01-29 20:53:40 -0000 (Wed, 29 Jan 2025) EllapsedTime: 8.0 seconds RetCode: 0 Status: OK PackageFile: ASSIGN_1.43.0.tar.gz PackageFileSize: 1.685 MiB