Package: ASSIGN Version: 1.43.0 Command: /Library/Frameworks/R.framework/Resources/bin/R CMD INSTALL ASSIGN StartedAt: 2025-01-31 15:23:49 -0500 (Fri, 31 Jan 2025) EndedAt: 2025-01-31 15:23:50 -0500 (Fri, 31 Jan 2025) EllapsedTime: 1.3 seconds RetCode: 0 Status: OK