Package: ASSIGN Version: 1.43.0 Command: /Library/Frameworks/R.framework/Resources/bin/R CMD check --install=check:ASSIGN.install-out.txt --library=/Library/Frameworks/R.framework/Resources/library --no-vignettes --timings ASSIGN_1.43.0.tar.gz StartedAt: 2025-01-31 18:06:23 -0500 (Fri, 31 Jan 2025) EndedAt: 2025-01-31 18:06:41 -0500 (Fri, 31 Jan 2025) EllapsedTime: 18.3 seconds RetCode: 0 Status: OK CheckDir: ASSIGN.Rcheck Warnings: 0