Package: ASSET Version: 2.25.0 Command: /Library/Frameworks/R.framework/Resources/bin/R CMD INSTALL ASSET StartedAt: 2025-01-31 15:46:15 -0500 (Fri, 31 Jan 2025) EndedAt: 2025-01-31 15:46:26 -0500 (Fri, 31 Jan 2025) EllapsedTime: 10.4 seconds RetCode: 0 Status: OK