Package: ASGSCA Version: 1.41.0 Command: rm -rf ASGSCA.buildbin-libdir && mkdir ASGSCA.buildbin-libdir && E:\biocbuild\bbs-3.21-bioc\R\bin\R.exe CMD INSTALL --build --library=ASGSCA.buildbin-libdir ASGSCA_1.41.0.tar.gz StartedAt: 2025-02-01 06:41:24 -0500 (Sat, 01 Feb 2025) EndedAt: 2025-02-01 06:41:34 -0500 (Sat, 01 Feb 2025) EllapsedTime: 10.2 seconds RetCode: 0 Status: OK PackageFile: ASGSCA_1.41.0.zip PackageFileSize: 767.3 KiB