Package: ASEB Version: 1.51.0 Command: /home/biocbuild/R/R/bin/R CMD INSTALL ASEB StartedAt: 2025-01-29 19:29:46 -0000 (Wed, 29 Jan 2025) EndedAt: 2025-01-29 19:29:57 -0000 (Wed, 29 Jan 2025) EllapsedTime: 10.8 seconds RetCode: 0 Status: OK