Package: ASAFE Version: 1.33.0 Command: /home/biocbuild/R/R/bin/R CMD INSTALL ASAFE StartedAt: 2025-01-29 19:29:29 -0000 (Wed, 29 Jan 2025) EndedAt: 2025-01-29 19:29:44 -0000 (Wed, 29 Jan 2025) EllapsedTime: 15.4 seconds RetCode: 0 Status: OK