Package: ASAFE Version: 1.33.0 Command: /home/biocbuild/R/R/bin/R CMD build --keep-empty-dirs --no-resave-data ASAFE StartedAt: 2025-01-29 20:52:44 -0000 (Wed, 29 Jan 2025) EndedAt: 2025-01-29 20:52:52 -0000 (Wed, 29 Jan 2025) EllapsedTime: 8.0 seconds RetCode: 0 Status: OK PackageFile: ASAFE_1.33.0.tar.gz PackageFileSize: 394.2 KiB