Package: ARRmNormalization Version: 1.47.0 Command: /Library/Frameworks/R.framework/Resources/bin/R CMD INSTALL ARRmNormalization StartedAt: 2025-01-31 15:01:59 -0500 (Fri, 31 Jan 2025) EndedAt: 2025-01-31 15:02:05 -0500 (Fri, 31 Jan 2025) EllapsedTime: 5.7 seconds RetCode: 0 Status: OK