Package: ARRmNormalization Version: 1.47.0 Command: /Library/Frameworks/R.framework/Resources/bin/R CMD check --install=check:ARRmNormalization.install-out.txt --library=/Library/Frameworks/R.framework/Resources/library --no-vignettes --timings ARRmNormalization_1.47.0.tar.gz StartedAt: 2025-01-31 18:05:43 -0500 (Fri, 31 Jan 2025) EndedAt: 2025-01-31 18:06:30 -0500 (Fri, 31 Jan 2025) EllapsedTime: 46.6 seconds RetCode: 0 Status: OK CheckDir: ARRmNormalization.Rcheck Warnings: 0