Package: ARRmNormalization Version: 1.47.0 Command: rm -rf ARRmNormalization.buildbin-libdir && mkdir ARRmNormalization.buildbin-libdir && /Users/biocbuild/BBS/utils/build-universal.sh ARRmNormalization_1.47.0.tar.gz /Library/Frameworks/R.framework/Resources/bin/R ARRmNormalization.buildbin-libdir StartedAt: 2025-01-31 22:07:57 -0500 (Fri, 31 Jan 2025) EndedAt: 2025-01-31 22:08:01 -0500 (Fri, 31 Jan 2025) EllapsedTime: 3.1 seconds RetCode: 0 Status: OK PackageFile: ARRmNormalization_1.47.0.tgz PackageFileSize: 1.112 MiB