Package: APL Version: 1.11.2 Command: /home/biocbuild/bbs-3.21-bioc/R/bin/R CMD build --keep-empty-dirs --no-resave-data APL StartedAt: 2025-01-31 16:12:25 -0500 (Fri, 31 Jan 2025) EndedAt: 2025-01-31 16:15:49 -0500 (Fri, 31 Jan 2025) EllapsedTime: 204.2 seconds RetCode: 0 Status: OK PackageFile: APL_1.11.2.tar.gz PackageFileSize: 2.353 MiB