Package: APL Version: 1.11.2 Command: /home/biocbuild/R/R/bin/R CMD build --keep-empty-dirs --no-resave-data APL StartedAt: 2025-01-29 20:51:08 -0000 (Wed, 29 Jan 2025) EndedAt: 2025-01-29 20:56:21 -0000 (Wed, 29 Jan 2025) EllapsedTime: 313.1 seconds RetCode: 0 Status: OK PackageFile: APL_1.11.2.tar.gz PackageFileSize: 1.229 MiB