Package: APAlyzer Version: 1.21.0 Command: /home/biocbuild/bbs-3.21-bioc/R/bin/R CMD build --keep-empty-dirs --no-resave-data APAlyzer StartedAt: 2025-01-31 16:12:23 -0500 (Fri, 31 Jan 2025) EndedAt: 2025-01-31 16:14:02 -0500 (Fri, 31 Jan 2025) EllapsedTime: 99.1 seconds RetCode: 0 Status: OK PackageFile: APAlyzer_1.21.0.tar.gz PackageFileSize: 3.917 MiB