Package: AMARETTO Version: 1.23.0 Command: /Library/Frameworks/R.framework/Resources/bin/R CMD check --install=check:AMARETTO.install-out.txt --library=/Library/Frameworks/R.framework/Resources/library --no-vignettes --timings AMARETTO_1.23.0.tar.gz StartedAt: 2025-01-31 18:48:35 -0500 (Fri, 31 Jan 2025) EndedAt: 2025-01-31 18:53:17 -0500 (Fri, 31 Jan 2025) EllapsedTime: 282.0 seconds RetCode: 0 Status: WARNINGS CheckDir: AMARETTO.Rcheck Warnings: 1