Package: AMARETTO Version: 1.23.0 Command: /home/biocbuild/R/R/bin/R CMD check --install=check:AMARETTO.install-out.txt --library=/home/biocbuild/R/R/site-library --no-vignettes --timings AMARETTO_1.23.0.tar.gz StartedAt: 2025-01-28 03:30:35 -0000 (Tue, 28 Jan 2025) EndedAt: 2025-01-28 03:36:54 -0000 (Tue, 28 Jan 2025) EllapsedTime: 379.6 seconds RetCode: 0 Status: WARNINGS CheckDir: AMARETTO.Rcheck Warnings: 1