Package: AMARETTO Version: 1.23.0 Command: /home/biocbuild/R/R/bin/R CMD build --keep-empty-dirs --no-resave-data AMARETTO StartedAt: 2025-01-29 20:48:41 -0000 (Wed, 29 Jan 2025) EndedAt: 2025-01-29 20:49:53 -0000 (Wed, 29 Jan 2025) EllapsedTime: 72.0 seconds RetCode: 0 Status: OK PackageFile: AMARETTO_1.23.0.tar.gz PackageFileSize: 3.241 MiB