Package: AMARETTO Version: 1.23.0 Command: /Library/Frameworks/R.framework/Resources/bin/R CMD build --keep-empty-dirs --no-resave-data AMARETTO StartedAt: 2025-01-31 15:32:14 -0500 (Fri, 31 Jan 2025) EndedAt: 2025-01-31 15:32:34 -0500 (Fri, 31 Jan 2025) EllapsedTime: 20.2 seconds RetCode: 0 Status: OK PackageFile: AMARETTO_1.23.0.tar.gz PackageFileSize: 3.228 MiB