Package: AIMS Version: 1.39.0 Command: E:\biocbuild\bbs-3.21-bioc\R\bin\R.exe CMD INSTALL AIMS StartedAt: 2025-01-31 15:23:48 -0500 (Fri, 31 Jan 2025) EndedAt: 2025-01-31 15:23:55 -0500 (Fri, 31 Jan 2025) EllapsedTime: 7.4 seconds RetCode: 0 Status: OK