Package: AIMS Version: 1.39.0 Command: /home/biocbuild/R/R/bin/R CMD build --keep-empty-dirs --no-resave-data AIMS StartedAt: 2025-01-29 20:46:49 -0000 (Wed, 29 Jan 2025) EndedAt: 2025-01-29 20:47:08 -0000 (Wed, 29 Jan 2025) EllapsedTime: 19.0 seconds RetCode: 0 Status: OK PackageFile: AIMS_1.39.0.tar.gz PackageFileSize: 482.6 KiB