Package: ADaCGH2 Version: 2.47.0 Command: /home/biocbuild/R/R/bin/R CMD INSTALL ADaCGH2 StartedAt: 2025-01-29 20:21:49 -0000 (Wed, 29 Jan 2025) EndedAt: 2025-01-29 20:21:50 -0000 (Wed, 29 Jan 2025) EllapsedTime: 1.1 seconds RetCode: 1 Status: ERROR