Package: ADImpute Version: 1.17.0 Command: /Library/Frameworks/R.framework/Resources/bin/R CMD build --keep-empty-dirs --no-resave-data ADImpute StartedAt: 2025-01-31 15:31:00 -0500 (Fri, 31 Jan 2025) EndedAt: 2025-01-31 15:31:11 -0500 (Fri, 31 Jan 2025) EllapsedTime: 11.1 seconds RetCode: 0 Status: OK PackageFile: ADImpute_1.17.0.tar.gz PackageFileSize: 2.117 MiB