This page was generated on 2019-04-09 11:16:20 -0400 (Tue, 09 Apr 2019).
| ChIPseeker 1.19.1 Guangchuang Yu
 
 
| Snapshot Date: 2019-04-08 17:01:18 -0400 (Mon, 08 Apr 2019) |  | URL: https://git.bioconductor.org/packages/ChIPseeker |  | Branch: master |  | Last Commit: 013b26d |  | Last Changed Date: 2019-01-10 22:18:28 -0400 (Thu, 10 Jan 2019) |  | malbec2 | Linux (Ubuntu 18.04.2 LTS) / x86_64 | OK | OK | OK |  |  | 
| tokay2 | Windows Server 2012 R2 Standard / x64 | OK | OK | WARNINGS | OK |  | 
| celaya2 | OS X 10.11.6 El Capitan / x86_64 | OK | OK | OK | OK |  | 
| merida2 | OS X 10.11.6 El Capitan / x86_64 | OK | OK | OK | OK |  |