Back to Multiple platform build/check report for BioC 3.8 |
|
This page was generated on 2019-04-16 11:47:10 -0400 (Tue, 16 Apr 2019).
Package 1040/1649 | Hostname | OS / Arch | INSTALL | BUILD | CHECK | BUILD BIN | ||||||
NBSplice 1.0.6 Gabriela Merino
| malbec1 | Linux (Ubuntu 16.04.6 LTS) / x86_64 | OK | OK | OK | ![]() | ||||||
merida1 | OS X 10.11.6 El Capitan / x86_64 | OK | OK | OK | OK | ![]() |