hopach 2.31.0 Katherine S. Pollard
 | Snapshot Date: 2015-10-26 20:20:04 -0400 (Mon, 26 Oct 2015) |  | URL: https://hedgehog.fhcrc.org/bioconductor/trunk/madman/Rpacks/hopach |  | Last Changed Rev: 109592 / Revision: 109948 |  | Last Changed Date: 2015-10-13 15:59:53 -0400 (Tue, 13 Oct 2015) |  
  | linux2.bioconductor.org  | Linux (Ubuntu 14.04.2 LTS) / x86_64  |  OK  |  OK  |  OK  |  |   | 
| windows2.bioconductor.org  | Windows Server 2012 R2 Enterprise SP1 (64-bit) / x64  | [ OK ] |  OK  |  OK  |  OK  |   | 
##############################################################################
##############################################################################
###
### Running command:
###
###   C:\cygwin64\bin\curl.exe -O http://linux2.bioconductor.org/BBS/3.3/bioc/src/contrib/hopach_2.31.0.tar.gz && c:\biocbld\bbs-3.3-bioc\R\bin\R.exe CMD INSTALL --merge-multiarch hopach_2.31.0.tar.gz && rm hopach_2.31.0.tar.gz
###
##############################################################################
##############################################################################
  % Total    % Received % Xferd  Average Speed   Time    Time     Time  Current
                                 Dload  Upload   Total   Spent    Left  Speed
  0     0    0     0    0     0      0      0 --:--:-- --:--:-- --:--:--     0
100  882k  100  882k    0     0   100M      0 --:--:-- --:--:-- --:--:--  172M
install for i386
* installing to library 'c:/biocbld/bbs-3.3-bioc/R/library'
* installing *source* package 'hopach' ...
** libs
gcc -m32 -I"c:/biocbld/BBS-3˜1.3-B/R/include" -DNDEBUG     -I"d:/RCompile/r-compiling/local/local320/include"     -O3 -Wall  -std=gnu99 -mtune=core2 -c Rdistances.c -o Rdistances.o
gcc -m32 -I"c:/biocbld/BBS-3˜1.3-B/R/include" -DNDEBUG     -I"d:/RCompile/r-compiling/local/local320/include"     -O3 -Wall  -std=gnu99 -mtune=core2 -c hdist.c -o hdist.o
gcc -m32 -shared -s -static-libgcc -o hopach.dll tmp.def Rdistances.o hdist.o -Ld:/RCompile/r-compiling/local/local320/lib/i386 -Ld:/RCompile/r-compiling/local/local320/lib -Lc:/biocbld/BBS-3˜1.3-B/R/bin/i386 -lR
installing to c:/biocbld/bbs-3.3-bioc/R/library/hopach/libs/i386
** R
** data
** inst
** preparing package for lazy loading
Creating a generic function from function 'as.hdist' in package 'hopach'
Creating a generic function for 'as.matrix' from package 'base' in package 'hopach'
** help
*** installing help indices
** building package indices
** installing vignettes
** testing if installed package can be loaded
install for x64
* installing to library 'c:/biocbld/bbs-3.3-bioc/R/library'
* installing *source* package 'hopach' ...
** libs
gcc -m64 -I"c:/biocbld/BBS-3˜1.3-B/R/include" -DNDEBUG     -I"d:/RCompile/r-compiling/local/local320/include"     -O2 -Wall  -std=gnu99 -mtune=core2 -c Rdistances.c -o Rdistances.o
gcc -m64 -I"c:/biocbld/BBS-3˜1.3-B/R/include" -DNDEBUG     -I"d:/RCompile/r-compiling/local/local320/include"     -O2 -Wall  -std=gnu99 -mtune=core2 -c hdist.c -o hdist.o
gcc -m64 -shared -s -static-libgcc -o hopach.dll tmp.def Rdistances.o hdist.o -Ld:/RCompile/r-compiling/local/local320/lib/x64 -Ld:/RCompile/r-compiling/local/local320/lib -Lc:/biocbld/BBS-3˜1.3-B/R/bin/x64 -lR
installing to c:/biocbld/bbs-3.3-bioc/R/library/hopach/libs/x64
** testing if installed package can be loaded
* DONE (hopach)