Back to Books build report for BioC 3.21

This page was generated on 2025-04-21 14:30 -0400 (Mon, 21 Apr 2025).

HostnameOSArch (*)R versionInstalled pkgs
nebbiolo1Linux (Ubuntu 24.04.1 LTS)x86_644.5.0 RC (2025-04-04 r88126) -- "How About a Twenty-Six" 4831
Click on any hostname to see more info about the system (e.g. compilers)      (*) as reported by 'uname -p', except on Windows and Mac OS X

Package 6/10HostnameOS / ArchINSTALLBUILDCHECK
OSCA.basic 1.16.0  (landing page)
Peter Hickey
Snapshot Date: 2025-04-21 10:00 -0400 (Mon, 21 Apr 2025)
git_url: https://git.bioconductor.org/packages/OSCA.basic
git_branch: RELEASE_3_21
git_last_commit: e82ba05
git_last_commit_date: 2025-04-15 10:47:14 -0400 (Tue, 15 Apr 2025)
nebbiolo1Linux (Ubuntu 24.04.1 LTS) / x86_64  OK    OK    OK  UNNEEDED, same version is already published


CHECK results for OSCA.basic on nebbiolo1

To the developers/maintainers of the OSCA.basic package:
- Use the following Renviron settings to reproduce errors and warnings.
- If 'R CMD check' started to fail recently on the Linux builder(s) over a missing dependency, add the missing dependency to 'Suggests:' in your DESCRIPTION file. See Renviron.bioc for more information.

raw results


Summary

Package: OSCA.basic
Version: 1.16.0
Command: rm -rf OSCA.basic.book && mkdir OSCA.basic.book && /home/biocbuild/BBS/utils/deploy_book.py OSCA.basic_1.16.0.tar.gz OSCA.basic.book
StartedAt: 2025-04-21 12:31:16 -0400 (Mon, 21 Apr 2025)
EndedAt: 2025-04-21 12:31:18 -0400 (Mon, 21 Apr 2025)
EllapsedTime: 2.5 seconds
RetCode: 0
Status:   OK  
DeployDestDir: OSCA.basic.book
Warnings: 0

Command output

##############################################################################
##############################################################################
###
### Running command:
###
###   rm -rf OSCA.basic.book && mkdir OSCA.basic.book && /home/biocbuild/BBS/utils/deploy_book.py OSCA.basic_1.16.0.tar.gz OSCA.basic.book
###
##############################################################################
##############################################################################


Deploying content from book tarball 'OSCA.basic_1.16.0.tar.gz' to 'OSCA.basic.book/OSCA.basic/' ... OK