Package: OSCA.advanced
Version: 1.15.0
Command: rm -rf OSCA.advanced.book && mkdir OSCA.advanced.book && /home/biocbuild/BBS/utils/deploy_book.py OSCA.advanced_1.15.0.tar.gz OSCA.advanced.book
StartedAt: 2024-12-06 12:30:49 -0500 (Fri, 06 Dec 2024)
EndedAt: 2024-12-06 12:30:50 -0500 (Fri, 06 Dec 2024)
EllapsedTime: 0.4 seconds
RetCode: 0
Status: OK
DeployDestDir: OSCA.advanced.book
Warnings: 0