##############################################################################
##############################################################################
###
### Running command:
###
###   rm -rf OSCA.advanced.book && mkdir OSCA.advanced.book && /home/biocbuild/BBS/utils/deploy_book.py OSCA.advanced_1.15.0.tar.gz OSCA.advanced.book
###
##############################################################################
##############################################################################


Deploying content from book tarball 'OSCA.advanced_1.15.0.tar.gz' to 'OSCA.advanced.book/OSCA.advanced/' ... OK