Package: OSCA.advanced Version: 1.15.0 Maintainer: Ludwig Geistlinger MaintainerEmail: ludwig_geistlinger at hms.harvard.edu git_url: https://git.bioconductor.org/packages/OSCA.advanced git_branch: devel git_last_commit: c60ce4b git_last_commit_date: 2024-10-29 10:07:59 -0500 (Tue, 29 Oct 2024)