Back to Rapid builds (Linux only) of a subset of BioC 3.21
Report updated every 6 hours

This page was generated on 2025-04-15 15:51 -0400 (Tue, 15 Apr 2025).

HostnameOSArch (*)R versionInstalled pkgs
teran2Linux (Ubuntu 24.04.1 LTS)x86_644.5.0 RC (2025-04-04 r88118) -- "How About a Twenty-Six" 870
Click on any hostname to see more info about the system (e.g. compilers)      (*) as reported by 'uname -p', except on Windows and Mac OS X

Package 157/218HostnameOS / ArchINSTALLBUILDCHECK
pRoloc 1.49.0  (landing page)
Lisa Breckels
Snapshot Date: 2025-04-15 12:00 -0400 (Tue, 15 Apr 2025)
git_url: https://git.bioconductor.org/packages/pRoloc
git_branch: devel
git_last_commit: 0c89607
git_last_commit_date: 2025-04-15 10:16:44 -0400 (Tue, 15 Apr 2025)
teran2Linux (Ubuntu 24.04.1 LTS) / x86_64  OK    OK    WARNINGS  


INSTALL results for pRoloc on teran2

To the developers/maintainers of the pRoloc package:
- Use the following Renviron settings to reproduce errors and warnings.
- If 'R CMD check' started to fail recently on the Linux builder(s) over a missing dependency, add the missing dependency to 'Suggests:' in your DESCRIPTION file. See Renviron.bioc for more information.

raw results


Summary

Package: pRoloc
Version: 1.49.0
Command: /home/rapidbuild/bbs-3.21-bioc-rapid/R/bin/R CMD INSTALL pRoloc
StartedAt: 2025-04-15 12:22:33 -0400 (Tue, 15 Apr 2025)
EndedAt: 2025-04-15 12:23:41 -0400 (Tue, 15 Apr 2025)
EllapsedTime: 67.9 seconds
RetCode: 0
Status:   OK  

Command output

##############################################################################
##############################################################################
###
### Running command:
###
###   /home/rapidbuild/bbs-3.21-bioc-rapid/R/bin/R CMD INSTALL pRoloc
###
##############################################################################
##############################################################################


* installing to library ‘/media/volume/teran2_disk/rapidbuild/bbs-3.21-bioc-rapid/R/site-library’
* installing *source* package ‘pRoloc’ ...
** this is package ‘pRoloc’ version ‘1.49.0’
** using staged installation
** libs
using C++ compiler: ‘g++ (Ubuntu 13.3.0-6ubuntu2~24.04) 13.3.0’
g++ -std=gnu++17 -I"/home/rapidbuild/bbs-3.21-bioc-rapid/R/include" -DNDEBUG  -I'/media/volume/teran2_disk/rapidbuild/bbs-3.21-bioc-rapid/R/site-library/Rcpp/include' -I'/media/volume/teran2_disk/rapidbuild/bbs-3.21-bioc-rapid/R/site-library/RcppArmadillo/include' -I/usr/local/include    -fpic  -g -O2  -Wall -Werror=format-security  -c RcppExports.cpp -o RcppExports.o
g++ -std=gnu++17 -I"/home/rapidbuild/bbs-3.21-bioc-rapid/R/include" -DNDEBUG  -I'/media/volume/teran2_disk/rapidbuild/bbs-3.21-bioc-rapid/R/site-library/Rcpp/include' -I'/media/volume/teran2_disk/rapidbuild/bbs-3.21-bioc-rapid/R/site-library/RcppArmadillo/include' -I/usr/local/include    -fpic  -g -O2  -Wall -Werror=format-security  -c dmvtCpp.cpp -o dmvtCpp.o
g++ -std=gnu++17 -I"/home/rapidbuild/bbs-3.21-bioc-rapid/R/include" -DNDEBUG  -I'/media/volume/teran2_disk/rapidbuild/bbs-3.21-bioc-rapid/R/site-library/Rcpp/include' -I'/media/volume/teran2_disk/rapidbuild/bbs-3.21-bioc-rapid/R/site-library/RcppArmadillo/include' -I/usr/local/include    -fpic  -g -O2  -Wall -Werror=format-security  -c pRoloc.cpp -o pRoloc.o
g++ -std=gnu++17 -shared -L/usr/local/lib -o pRoloc.so RcppExports.o dmvtCpp.o pRoloc.o -llapack -L/home/rapidbuild/bbs-3.21-bioc-rapid/R/lib -lRblas -lgfortran -lm -lquadmath
installing to /media/volume/teran2_disk/rapidbuild/bbs-3.21-bioc-rapid/R/site-library/00LOCK-pRoloc/00new/pRoloc/libs
** R
** data
** inst
** byte-compile and prepare package for lazy loading
** help
*** installing help indices
** building package indices
** installing vignettes
** testing if installed package can be loaded from temporary location
** checking absolute paths in shared objects and dynamic libraries
** testing if installed package can be loaded from final location
** testing if installed package keeps a record of temporary installation path
* DONE (pRoloc)