Package: APAlyzer
Version: 1.21.0
Maintainer: Ruijia Wang
MaintainerEmail: rjwang.bioinfo at gmail.com
git_url: https://git.bioconductor.org/packages/APAlyzer
git_branch: devel
git_last_commit: 7a59a45
git_last_commit_date: 2024-10-29 10:39:10 -0500 (Tue, 29 Oct 2024)