Package: xcms Version: 4.5.3 Command: E:\biocbuild\bbs-3.21-bioc\R\bin\R.exe CMD INSTALL xcms StartedAt: 2025-02-19 16:25:44 -0500 (Wed, 19 Feb 2025) EndedAt: 2025-02-19 16:30:35 -0500 (Wed, 19 Feb 2025) EllapsedTime: 291.2 seconds RetCode: 0 Status: OK