Package: xcms
Version: 4.5.3
Command: E:\biocbuild\bbs-3.21-bioc\R\bin\R.exe CMD check --no-multiarch --install=check:xcms.install-out.txt --library=E:\biocbuild\bbs-3.21-bioc\R\library --no-vignettes --timings xcms_4.5.3.tar.gz
StartedAt: 2025-02-20 06:38:47 -0500 (Thu, 20 Feb 2025)
EndedAt: 2025-02-20 07:02:28 -0500 (Thu, 20 Feb 2025)
EllapsedTime: 1421.5 seconds
RetCode: 0
Status: WARNINGS
CheckDir: xcms.Rcheck
Warnings: 1