Package: xcms Version: 4.5.3 Command: chmod a+r xcms -R && E:\biocbuild\bbs-3.21-bioc\R\bin\R.exe CMD build --keep-empty-dirs --no-resave-data xcms StartedAt: 2025-02-19 22:19:30 -0500 (Wed, 19 Feb 2025) EndedAt: 2025-02-19 22:27:24 -0500 (Wed, 19 Feb 2025) EllapsedTime: 474.2 seconds RetCode: 0 Status: OK PackageFile: xcms_4.5.3.tar.gz PackageFileSize: 4.391 <A href="http://en.wikipedia.org/wiki/MiB" target="_blank">MiB</A>