##############################################################################
##############################################################################
###
### Running command:
###
###   chmod a+r xcms -R && E:\biocbuild\bbs-3.21-bioc\R\bin\R.exe CMD build --keep-empty-dirs --no-resave-data xcms
###
##############################################################################
##############################################################################


* checking for file 'xcms/DESCRIPTION' ... OK
* preparing 'xcms':
* checking DESCRIPTION meta-information ... OK
* cleaning src
* installing the package to build vignettes
* creating vignettes ... OK
* cleaning src
* checking for LF line-endings in source and make files and shell scripts
* checking for empty or unneeded directories
* looking to see if a 'data/datalist' file should be added
* building 'xcms_4.5.3.tar.gz'