Package: xcms Version: 4.5.3 Command: /Library/Frameworks/R.framework/Resources/bin/R CMD INSTALL xcms StartedAt: 2025-02-19 15:29:34 -0500 (Wed, 19 Feb 2025) EndedAt: 2025-02-19 15:31:45 -0500 (Wed, 19 Feb 2025) EllapsedTime: 131.5 seconds RetCode: 0 Status: OK