Package: xcms Version: 4.5.3 Command: /Library/Frameworks/R.framework/Resources/bin/R CMD check --install=check:xcms.install-out.txt --library=/Library/Frameworks/R.framework/Resources/library --no-vignettes --timings xcms_4.5.3.tar.gz StartedAt: 2025-02-20 00:02:44 -0500 (Thu, 20 Feb 2025) EndedAt: 2025-02-20 00:19:35 -0500 (Thu, 20 Feb 2025) EllapsedTime: 1010.7 seconds RetCode: 0 Status: OK CheckDir: xcms.Rcheck Warnings: 0