Package: xcms Version: 4.5.3 Command: rm -rf xcms.buildbin-libdir && mkdir xcms.buildbin-libdir && /Users/biocbuild/BBS/utils/build-universal.sh xcms_4.5.3.tar.gz /Library/Frameworks/R.framework/Resources/bin/R xcms.buildbin-libdir StartedAt: 2025-02-20 01:00:42 -0500 (Thu, 20 Feb 2025) EndedAt: 2025-02-20 01:02:15 -0500 (Thu, 20 Feb 2025) EllapsedTime: 92.9 seconds RetCode: 0 Status: OK PackageFile: xcms_4.5.3.tgz PackageFileSize: 12.17 <A href="http://en.wikipedia.org/wiki/MiB" target="_blank">MiB</A>