Package: xcms
Version: 4.5.2
Command: /home/biocbuild/R/R/bin/R CMD INSTALL xcms
StartedAt: 2025-01-29 20:12:36 -0000 (Wed, 29 Jan 2025)
EndedAt: 2025-01-29 20:14:57 -0000 (Wed, 29 Jan 2025)
EllapsedTime: 140.8 seconds
RetCode: 0
Status: OK