Package: xcms
Version: 4.5.2
Command: /home/biocbuild/R/R/bin/R CMD check --install=check:xcms.install-out.txt --library=/home/biocbuild/R/R/site-library --no-vignettes --timings xcms_4.5.2.tar.gz
StartedAt: 2025-01-27 13:57:20 -0000 (Mon, 27 Jan 2025)
EndedAt: 2025-01-27 14:27:36 -0000 (Mon, 27 Jan 2025)
EllapsedTime: 1815.9 seconds
RetCode: 0
Status: OK
CheckDir: xcms.Rcheck
Warnings: 0