Package: xcms
Version: 4.5.2
Command: /home/biocbuild/R/R/bin/R CMD build --keep-empty-dirs --no-resave-data xcms
StartedAt: 2025-01-28 03:12:23 -0000 (Tue, 28 Jan 2025)
EndedAt: 2025-01-28 03:19:34 -0000 (Tue, 28 Jan 2025)
EllapsedTime: 430.6 seconds
RetCode: 0
Status: OK
PackageFile: xcms_4.5.2.tar.gz
PackageFileSize: 5.716 <A href="http://en.wikipedia.org/wiki/MiB" target="_blank">MiB</A>