Package: xcms Version: 4.5.3 Command: /Library/Frameworks/R.framework/Resources/bin/R CMD INSTALL xcms StartedAt: 2025-02-19 15:18:57 -0500 (Wed, 19 Feb 2025) EndedAt: 2025-02-19 15:19:32 -0500 (Wed, 19 Feb 2025) EllapsedTime: 34.7 seconds RetCode: 0 Status: OK