Package: xcms
Version: 4.5.3
Command: /Library/Frameworks/R.framework/Resources/bin/R CMD check --install=check:xcms.install-out.txt --library=/Library/Frameworks/R.framework/Resources/library --no-vignettes --timings xcms_4.5.3.tar.gz
StartedAt: 2025-02-19 22:04:58 -0500 (Wed, 19 Feb 2025)
EndedAt: 2025-02-19 22:12:33 -0500 (Wed, 19 Feb 2025)
EllapsedTime: 455.4 seconds
RetCode: 0
Status: OK
CheckDir: xcms.Rcheck
Warnings: 0