Package: xcms Version: 4.5.3 Command: /Library/Frameworks/R.framework/Resources/bin/R CMD build --keep-empty-dirs --no-resave-data xcms StartedAt: 2025-02-19 17:55:57 -0500 (Wed, 19 Feb 2025) EndedAt: 2025-02-19 17:57:49 -0500 (Wed, 19 Feb 2025) EllapsedTime: 111.6 seconds RetCode: 0 Status: OK PackageFile: xcms_4.5.3.tar.gz PackageFileSize: 9.311 <A href="http://en.wikipedia.org/wiki/MiB" target="_blank">MiB</A>