Package: wppi
Version: 1.15.0
Maintainer: Ana Galhoz
MaintainerEmail: ana.galhoz at helmholtz-muenchen.de
git_url: https://git.bioconductor.org/packages/wppi
git_branch: devel
git_last_commit: 321e17d
git_last_commit_date: 2024-10-29 10:58:10 -0500 (Tue, 29 Oct 2024)