Package: widgetTools Version: 1.85.0 Command: rm -rf widgetTools.buildbin-libdir && mkdir widgetTools.buildbin-libdir && E:\biocbuild\bbs-3.21-bioc\R\bin\R.exe CMD INSTALL --build --library=widgetTools.buildbin-libdir widgetTools_1.85.0.tar.gz StartedAt: 2025-02-05 09:10:38 -0500 (Wed, 05 Feb 2025) EndedAt: 2025-02-05 09:11:52 -0500 (Wed, 05 Feb 2025) EllapsedTime: 74.4 seconds RetCode: 0 Status: OK PackageFile: widgetTools_1.85.0.zip PackageFileSize: 349 KiB